BEGIN:VCALENDAR
VERSION:2.0
PRODID:-//Mobile Shred IT - ECPv6.11.2.1//NONSGML v1.0//EN
CALSCALE:GREGORIAN
METHOD:PUBLISH
X-ORIGINAL-URL:https://www.mobileshredit.com
X-WR-CALDESC:Events for Mobile Shred IT
REFRESH-INTERVAL;VALUE=DURATION:PT1H
X-Robots-Tag:noindex
X-PUBLISHED-TTL:PT1H
BEGIN:VTIMEZONE
TZID:America/Chicago
BEGIN:DAYLIGHT
TZOFFSETFROM:-0600
TZOFFSETTO:-0500
TZNAME:CDT
DTSTART:20230312T080000
END:DAYLIGHT
BEGIN:STANDARD
TZOFFSETFROM:-0500
TZOFFSETTO:-0600
TZNAME:CST
DTSTART:20231105T070000
END:STANDARD
END:VTIMEZONE
BEGIN:VEVENT
DTSTART;TZID=America/Chicago:20231104T090000
DTEND;TZID=America/Chicago:20231104T120000
DTSTAMP:20260419T215213
CREATED:20231101T205816Z
LAST-MODIFIED:20231102T154417Z
UID:1611-1699088400-1699099200@www.mobileshredit.com
SUMMARY:Lucas Paper Shredding & Electronic Recycling Event
DESCRIPTION:In partnership with the City of Lucas\, we are having a Free Paper Shredding & Electronic Recycling Event. This event is for Lucas residents only\, and proof of residency is required. The event will take place in 665 Country Club Road\, Lucas Texas 75002. \nPlease follow these rules when you bring items to Community Recycling sites: \n\nStay in your vehicle.\n1 car at a time will be unloaded\, so please wait in line patiently.\n\nAll paper is shredded on-site at the event. Pre-shredded paper is not accepted at this event. Once shredded\, all paper is recycled\, adhering to our zero-landfill initiative for sustainability. \nAccepting paper with:  \n\nStaples\nPaper clips\nRubber bands\nSmall binder clips\nFile folders\n\nNot accepting paper with:  \n\nLarge binder clips\nBinders\nCoil Binding\nHanging file folders\nPlastic Bags\nMagnets\nHard cover books\n\nAdditionally\, our partner United Electronic Recycling will be there for electronic recycling. All collected electronic waste is processed to ISO 14001 and OSHAS 1800 standards. \nDrop-off Event Disposal Fees: \n\nPrinters\, faxes and copiers – $10/item\nCRT monitors – $10/item\nTelevisions – $20/item\nLoose hard drives for shredding-$10 each\n\nFree to Recycle:  \n\nAll types of cables/wires\nDesktops\nLaptops\nServers\nKeyboards\nSpeakers\nUPS- Power Supplies\nTelephones\nRouters\nSwitches\nCell Phones\nRadios\nTablets\nGame Consoles\nCameras\nSatellite Dishes\nSecurity Systems\nCable Boxes\nChristmas Lights\nProjectors\nMicrowaves\nMixers\nToasters\nAir Fryers\nAir Purifiers/Diffusers\nRice cookers\nSmoke Detector\nVHS Tapes\nPrinters/ Copiers/ Fax machines\n\nAll other electronic items are free of charge. For a detailed list on the items\, we accept \nFlyer
URL:https://www.mobileshredit.com/community-event/lucas-paper-shredding-event/
LOCATION:Lucas City Hall\, 665 Country Club Road\, Lucas\, TX\, 75002\, United States
CATEGORIES:Paper Shredding Events
END:VEVENT
BEGIN:VEVENT
DTSTART;TZID=America/Chicago:20231111T083000
DTEND;TZID=America/Chicago:20231111T120000
DTSTAMP:20260419T215213
CREATED:20231101T202021Z
LAST-MODIFIED:20231101T202504Z
UID:1600-1699691400-1699704000@www.mobileshredit.com
SUMMARY:Plano Recycles Day
DESCRIPTION:In association with Texas Recycles Day\, the city of Plano and Live Green in Plano is hosting a paper shredding event. This event is for Plano residents only\, and proof of residency is required. The event will take place in the Chase Oaks Church parking lot located at 281 Legacy Dr. (Enter from the Chase Oaks Blvd.). \nPlease follow these rules when you bring items to Community Recycling sites (Limit of two boxes per resident): \n\nStay in your vehicle.\n1 car at a time will be unloaded\, so please wait in line patiently.\n\nAll paper is shredded on-site at the event. Pre-shredded paper is not accepted at this event. Once shredded\, all paper is recycled\, adhering to our zero-landfill initiative for sustainability. \nAccepting paper with:  \n\nStaples\nPaper clips\nRubber bands\nSmall binder clips\nFile folders\n\nNot accepting paper with:  \n\nLarge binder clips\nBinders\nCoil Binding\nHanging file folders\nPlastic Bags\nMagnets\nHard cover books\n\nAdditionally\, our partner United Electronic Recycling will be there for electronic recycling. All collected electronic waste is processed to ISO 14001 and OSHAS 1800 standards. \nDrop-off Event Disposal Fees: \n\nPrinters\, faxes and copiers – $5/item\nCRT monitors – $10/item\nTelevisions – $25/item\n\nFree to Recycle:  \n\nAll types of cables/wires\nDesktops\nLaptops\nServers\nKeyboards\nSpeakers\nUPS- Power Supplies\nTelephones\nRouters\nSwitches\nCell Phones\nRadios\nTablets\nGame Consoles\nPaper Shredders\nCameras\nSatellite Dishes\nSecurity Systems\nCable Boxes\nChristmas Lights\nProjectors\nBlenders\nMicrowaves\nMixers\nToasters
URL:https://www.mobileshredit.com/community-event/plano-recycles-day/
LOCATION:TX
CATEGORIES:Paper Shredding Events
END:VEVENT
BEGIN:VEVENT
DTSTART;TZID=America/Chicago:20231111T090000
DTEND;TZID=America/Chicago:20231111T110000
DTSTAMP:20260419T215213
CREATED:20231023T212920Z
LAST-MODIFIED:20231101T210051Z
UID:1571-1699693200-1699700400@www.mobileshredit.com
SUMMARY:Plano Paper Shredding & Electronic Recycling Event
DESCRIPTION:This Paper Shredding Event is in partnership with the City of Plano\, everyone is welcomed!  Participants drive through the line to get rid of sensitive documents. The event will take place in the parking lot of St Andrew Methodist Event Church\, located at 5801 W Plano Pkwy\, Plano\, TX\, 75093. Only cash or check payments are accepted. \nPlease follow these rules when you bring items to Community Recycling sites: \n \n\nStay in your vehicle.\n1 car at a time will be unloaded\, so please wait in line patiently.\n\nShredding/Disposal Fee: \n\nStandard bankers box (15″ x 12″ x 10″) – $10/box\n\n \nAll paper is shredded on-site at the event. Pre-shredded paper is not accepted at this event. Once shredded\, all paper is recycled\, adhering to our zero-landfill initiative for sustainability. \nHow to Prepare your documents for destruction:\n\nYou may leave staples\, paper clips\, rubber bands\, small binder clips\, and file folders on items before destruction. Large binder clips\, hanging folders\, plastic\, binders\, coil binding and magnets should be removed.\nYou may bring items in kitchen bag for easier handling. A plastic bag or cardboard box is fine too\, but be prepared to dump items from plastic bag into cart.\n\nAdditionally\, our partner United Electronic Recycling will be there for electronic recycling. All collected electronic waste is processed to ISO 14001 and OSHAS 1800 standards. \nDrop-off Event Disposal Fees: \n\nPrinters\, faxes and copiers – $5/item\nCRT monitors – $10/item\nTelevisions – $25/item\n\nFree to Recycle:  \n\nAll types of cables\nDesktops\nServers\nKeyboards\nSpeakers\nUPS- Power Supplies\nTelephones\nRouters\nSwitches\nCell Phones\nRadios\nTablets\nGame Consoles\nCameras\nSatellite Dishes\nSecurity Systems\nCable Boxes\nChristmas Lights\nProjectors\nMicrowaves\nMixers\nToasters\n\nAll other electronic items are free of charge. For a detailed list on the items\, we accept
URL:https://www.mobileshredit.com/community-event/plano-paper-shredding-and-electronic-recycling-event-11-11/
LOCATION:St Andrew Methodist\, 5801 W Plano Pkwy\, Plano\, TX\, 75093\, United States
CATEGORIES:Paper Shredding Events
END:VEVENT
END:VCALENDAR