BEGIN:VCALENDAR
VERSION:2.0
PRODID:-//Mobile Shred IT - ECPv6.11.2.1//NONSGML v1.0//EN
CALSCALE:GREGORIAN
METHOD:PUBLISH
X-ORIGINAL-URL:https://www.mobileshredit.com
X-WR-CALDESC:Events for Mobile Shred IT
REFRESH-INTERVAL;VALUE=DURATION:PT1H
X-Robots-Tag:noindex
X-PUBLISHED-TTL:PT1H
BEGIN:VTIMEZONE
TZID:America/Chicago
BEGIN:DAYLIGHT
TZOFFSETFROM:-0600
TZOFFSETTO:-0500
TZNAME:CDT
DTSTART:20230312T080000
END:DAYLIGHT
BEGIN:STANDARD
TZOFFSETFROM:-0500
TZOFFSETTO:-0600
TZNAME:CST
DTSTART:20231105T070000
END:STANDARD
END:VTIMEZONE
BEGIN:VEVENT
DTSTART;TZID=America/Chicago:20230909T090000
DTEND;TZID=America/Chicago:20230909T110000
DTSTAMP:20260420T002807
CREATED:20230801T143033Z
LAST-MODIFIED:20230801T143033Z
UID:1264-1694250000-1694257200@www.mobileshredit.com
SUMMARY:Plano Paper Shredding and Electronic Recycling Event
DESCRIPTION:This Paper Shredding Event is in partnership with the City of Plano\, everyone is welcomed!  Participants drive through the line to get rid of sensitive documents. The event will take place in the parking lot of St Andrew Methodist Event Church\, located at 5801 W Plano Pkwy\, Plano\, TX\, 75093. Only cash or check payments are accepted. \nPlease follow these rules when you bring items to Community Recycling sites: \n \n\nStay in your vehicle.\n1 car at a time will be unloaded\, so please wait in line patiently.\n\nShredding/Disposal Fee: \n\nStandard bankers box (15″ x 12″ x 10″) – $10/box\n\n \nAll paper is shredded on-site at the event. Pre-shredded paper is not accepted at this event. Once shredded\, all paper is recycled\, adhering to our zero-landfill initiative for sustainability. \nHow to Prepare your documents for destruction:\n\nYou may leave staples\, paper clips\, rubber bands\, small binder clips\, and file folders on items before destruction. Large binder clips\, hanging folders\, plastic\, binders\, coil binding and magnets should be removed.\nYou may bring items in kitchen bag for easier handling. A plastic bag or cardboard box is fine too\, but be prepared to dump items from plastic bag into cart.\n\nAdditionally\, our partner United Electronic Recycling will be there for electronic recycling. All collected electronic waste is processed to ISO 14001 and OSHAS 1800 standards. \nDrop-off Event Disposal Fees: \n\nPrinters\, faxes and copiers – $5/item\nCRT monitors – $10/item\nTelevisions – $25/item\n\nFree to Recycle:  \n\nAll types of cables\nDesktops\nServers\nKeyboards\nSpeakers\nUPS- Power Supplies\nTelephones\nRouters\nSwitches\nCell Phones\nRadios\nTablets\nGame Consoles\nCameras\nSatellite Dishes\nSecurity Systems\nCable Boxes\nChristmas Lights\nProjectors\nMicrowaves\nMixers\nToasters\n\nAll other electronic items are free of charge. For a detailed list on the items\, we accept
URL:https://www.mobileshredit.com/community-event/plano-paper-shredding-and-electronic-recycling-event-9-9/
LOCATION:St Andrew Methodist\, 5801 W Plano Pkwy\, Plano\, TX\, 75093\, United States
CATEGORIES:Paper Shredding Events
END:VEVENT
BEGIN:VEVENT
DTSTART;TZID=America/Chicago:20230916T090000
DTEND;TZID=America/Chicago:20230916T110000
DTSTAMP:20260420T002807
CREATED:20230801T144218Z
LAST-MODIFIED:20230801T144218Z
UID:1267-1694854800-1694862000@www.mobileshredit.com
SUMMARY:Plano Paper Shredding and Electronic Recycling Event
DESCRIPTION:This Paper Shredding Event is in partnership with the City of Plano\, everyone is welcomed!  Participants drive through the line to get rid of sensitive documents. The event will take place in the parking lot of Christ United Methodist Church\, located at 3101 Coit Rd\, Plano\, TX\, 75075. Only cash or check payments are accepted. \nPlease follow these rules when you bring items to Community Recycling sites: \n \n\nStay in your vehicle.\n1 car at a time will be unloaded\, so please wait in line patiently.\n\nShredding/Disposal Fee: \n\nStandard bankers box (15″ x 12″ x 10″) – $10/box\n\n \nAll paper is shredded on-site at the event. Pre-shredded paper is not accepted at this event. Once shredded\, all paper is recycled\, adhering to our zero-landfill initiative for sustainability. \nHow to Prepare your documents for destruction:\n\nYou may leave staples\, paper clips\, rubber bands\, small binder clips\, and file folders on items before destruction. Large binder clips\, hanging folders\, plastic\, binders\, coil binding and magnets should be removed.\nYou may bring items in kitchen bag for easier handling. A plastic bag or cardboard box is fine too\, but be prepared to dump items from plastic bag into cart.\n\nAdditionally\, our partner United Electronic Recycling will be there for electronic recycling. All collected electronic waste is processed to ISO 14001 and OSHAS 1800 standards. \nDrop-off Event Disposal Fees: \n\nPrinters\, faxes and copiers – $5/item\nCRT monitors – $10/item\nTelevisions – $25/item\n\nFree to Recycle:  \n\nAll types of cables\nDesktops\nServers\nKeyboards\nSpeakers\nUPS- Power Supplies\nTelephones\nRouters\nSwitches\nCell Phones\nRadios\nTablets\nGame Consoles\nCameras\nSatellite Dishes\nSecurity Systems\nCable Boxes\nChristmas Lights\nProjectors\nMicrowaves\nMixers\nToasters\n\nAll other electronic items are free of charge. For a detailed list on the items\, we accept
URL:https://www.mobileshredit.com/community-event/plano-paper-shredding-and-electronic-recycling-event-9-16/
LOCATION:Christ United Methodist\, 3101 Coit Rd\, Plano\, TX\, 75075\, United States
CATEGORIES:Paper Shredding Events
END:VEVENT
END:VCALENDAR