BEGIN:VCALENDAR
VERSION:2.0
PRODID:-//Mobile Shred IT - ECPv6.11.2.1//NONSGML v1.0//EN
CALSCALE:GREGORIAN
METHOD:PUBLISH
X-ORIGINAL-URL:https://www.mobileshredit.com
X-WR-CALDESC:Events for Mobile Shred IT
REFRESH-INTERVAL;VALUE=DURATION:PT1H
X-Robots-Tag:noindex
X-PUBLISHED-TTL:PT1H
BEGIN:VTIMEZONE
TZID:America/Chicago
BEGIN:DAYLIGHT
TZOFFSETFROM:-0600
TZOFFSETTO:-0500
TZNAME:CDT
DTSTART:20240310T080000
END:DAYLIGHT
BEGIN:STANDARD
TZOFFSETFROM:-0500
TZOFFSETTO:-0600
TZNAME:CST
DTSTART:20241103T070000
END:STANDARD
END:VTIMEZONE
BEGIN:VEVENT
DTSTART;TZID=America/Chicago:20241102T090000
DTEND;TZID=America/Chicago:20241102T110000
DTSTAMP:20260420T181057
CREATED:20240820T194733Z
LAST-MODIFIED:20240820T194733Z
UID:2194-1730538000-1730545200@www.mobileshredit.com
SUMMARY:Free Paper Shredding Event Near Euless\, TX
DESCRIPTION:In partnership with the City of Euless\, we are having a free Paper Shredding & Electronic Recycling Event. This event is for Euless residents only\, and proof of residency is required. The event will take place in 201 N. Ector Dr. Euless\, Texas 76039. \nPlease follow these rules when you bring items to Community Recycling sites (Limit of five boxes per resident): \n\nStay in your vehicle.\n1 car at a time will be unloaded\, so please wait in line patiently.\n\nAll paper is shredded on-site at the event. Pre-shredded paper is not accepted at this event. Once shredded\, all paper is recycled\, adhering to our zero-landfill initiative for sustainability. \nAccepting paper with:  \n\nStaples\nPaper clips\nRubber bands\nSmall binder clips\nFile folders\n\nNot accepting paper with:  \n\nLarge binder clips\nBinders\nCoil Binding\nHanging file folders\nPlastic Bags\nMagnets\nHard cover books\n\nAdditionally\, our partner United Electronic Recycling will be there for free electronic recycling. All collected electronic waste is processed to ISO 14001 and OSHAS 1800 standards. \nFree to Recycle: \n\nComputers\nLaptops & Notebooks\nTelevisions\nFlat Screen Monitors\nPrinters/Copiers/Fax Machines\nKeyboards & Mice\nCell & Office Phones\nPower Supplies\nChargers\nBatteries & UPS\nVHS Tapes\nCables & Wire\nNetworking Equipment\nServers & Racks\nCD’s\, DVD’s\nDigital Cameras\nSmall Electronic Devices\nSmoke Detector Alarms\nVideo Game Systems\nChristmas Lights\nSmall Kitchen Appliances (microwaves\, toaster\, blender)\n\nFor further information\, please visit
URL:https://www.mobileshredit.com/community-event/paper-shredding-event-euless-tx-11-2-24/
LOCATION:Euless City Hall\, 201 N. Ector Dr.\, Euless\, TX\, 76039\, United States
CATEGORIES:Paper Shredding Events
END:VEVENT
BEGIN:VEVENT
DTSTART;TZID=America/Chicago:20241109T083000
DTEND;TZID=America/Chicago:20241109T120000
DTSTAMP:20260420T181057
CREATED:20240820T203344Z
LAST-MODIFIED:20240820T203344Z
UID:2202-1731141000-1731153600@www.mobileshredit.com
SUMMARY:Texas Recycles Day: Free Paper Shredding Event in Plano\, TX
DESCRIPTION:In association with Texas Recycles Day\, the city of Plano and Live Green in Plano is hosting a paper shredding event. This event is for Plano residents only\, and proof of residency is required. The event will take place in the Chase Oaks Church parking lot located at 281 Legacy Dr. (Enter from the Chase Oaks Blvd.). \nPlease follow these rules when you bring items to Community Recycling sites (Limit of two boxes per resident): \n\nStay in your vehicle.\n1 car at a time will be unloaded\, so please wait in line patiently.\n\nAll paper is shredded on-site at the event. Pre-shredded paper is not accepted at this event. Once shredded\, all paper is recycled\, adhering to our zero-landfill initiative for sustainability. \nAccepting paper with:  \n\nStaples\nPaper clips\nRubber bands\nSmall binder clips\nFile folders\n\nNot accepting paper with:  \n\nLarge binder clips\nBinders\nCoil Binding\nHanging file folders\nPlastic Bags\nMagnets\nHard cover books\n\nAdditionally\, our partner United Electronic Recycling will be there for electronic recycling. All collected electronic waste is processed to ISO 14001 and OSHAS 1800 standards. \nDrop-off Event Disposal Fees: \n\nPrinters\, faxes and copiers – $5/item\nCRT monitors – $10/item\nTelevisions – $25/item\n\nFree to Recycle:  \n\nAll types of cables/wires\nDesktops\nLaptops\nServers\nKeyboards\nSpeakers\nUPS- Power Supplies\nTelephones\nRouters\nSwitches\nCell Phones\nRadios\nTablets\nGame Consoles\nPaper Shredders\nCameras\nSatellite Dishes\nSecurity Systems\nCable Boxes\nChristmas Lights\nProjectors\nBlenders\nMicrowaves\nMixers\nToasters
URL:https://www.mobileshredit.com/community-event/texas-recycles-day-free-paper-shredding-event-in-plano-tx/
LOCATION:Chase Oaks Church\, 281 Legacy Drive\, Plano\, TX\, 75023\, United States
CATEGORIES:Paper Shredding Events
END:VEVENT
BEGIN:VEVENT
DTSTART;TZID=America/Chicago:20241109T090000
DTEND;TZID=America/Chicago:20241109T110000
DTSTAMP:20260420T181057
CREATED:20240820T195802Z
LAST-MODIFIED:20240820T195802Z
UID:2198-1731142800-1731150000@www.mobileshredit.com
SUMMARY:Paper Shredding & Electronic Recycling Event Near Plano\, TX
DESCRIPTION:This Paper Shredding Event is in partnership with the City of Plano\, everyone is welcomed!  Participants drive through the line to get rid of sensitive documents. The event will take place in the parking lot of St Andrew Methodist Event Church\, located at 5801 W Plano Pkwy\, Plano\, TX\, 75093. Only cash or check payments are accepted. \nPlease follow these rules when you bring items to Community Recycling sites: \n \n\nStay in your vehicle.\n1 car at a time will be unloaded\, so please wait in line patiently.\n\nShredding/Disposal Fee: \n\nStandard bankers box (15″ x 12″ x 10″) – $10/box\n\n \nAll paper is shredded on-site at the event. Pre-shredded paper is not accepted at this event. Once shredded\, all paper is recycled\, adhering to our zero-landfill initiative for sustainability. As an NAID AAA certified company\, Mobile Shred IT is committed to assisting you in securely shredding and disposing of your sensitive documents and data. \nAccepting paper with:  \n\nStaples\nPaper clips\nRubber bands\nSmall binder clips\nFile folders\n\nNot accepting paper with:  \n\nLarge binder clips\nBinders\nCoil Binding\nHanging file folders\nPlastic Bags\nMagnets\nHard cover books\n\nAdditionally\, our electronic recycling division United Electronic Recycling will be there for electronic recycling. All collected electronic waste is processed to R2V3 standards. \nDrop-off Event Disposal Fees: \n\nPrinters\, faxes and copiers – $5/item\nCRT monitors – $10/item\nTelevisions – $25/item\n\nFree to Recycle:  \n\nAll types of cables\nDesktops\nServers\nKeyboards\nSpeakers\nUPS- Power Supplies\nTelephones\nRouters\nSwitches\nCell Phones\nRadios\nTablets\nGame Consoles\nCameras\nSatellite Dishes\nSecurity Systems\nCable Boxes\nChristmas Lights\nProjectors\nMicrowaves\nMixers\nToasters\n\nAll other electronic items are free of charge. For a detailed list on the items\, we accept.
URL:https://www.mobileshredit.com/community-event/paper-shredding-event-near-plano-tx-11-9-24/
LOCATION:St Andrew Methodist\, 5801 W Plano Pkwy\, Plano\, TX\, 75093\, United States
CATEGORIES:Paper Shredding Events
END:VEVENT
BEGIN:VEVENT
DTSTART;TZID=America/Chicago:20241116T090000
DTEND;TZID=America/Chicago:20241116T110000
DTSTAMP:20260420T181057
CREATED:20240820T202712Z
LAST-MODIFIED:20240820T202712Z
UID:2200-1731747600-1731754800@www.mobileshredit.com
SUMMARY:Paper Shredding & Electronic Recycling Event Near Plano\, TX
DESCRIPTION:This Paper Shredding Event is in partnership with the City of Plano\, everyone is welcomed!  Participants drive through the line to get rid of sensitive documents. The event will take place in the parking lot of Christ United Methodist Church\, located at 3101 Coit Rd\, Plano\, TX\, 75075. Only cash or check payments are accepted. \nPlease follow these rules when you bring items to Community Recycling sites: \n \n\nStay in your vehicle.\n1 car at a time will be unloaded\, so please wait in line patiently.\n\nShredding/Disposal Fee: \n\nStandard bankers box (15″ x 12″ x 10″) – $10/box\n\n \nAll paper is shredded on-site at the event. Pre-shredded paper is not accepted at this event. Once shredded\, all paper is recycled\, adhering to our zero-landfill initiative for sustainability. As an NAID AAA certified company\, Mobile Shred IT is committed to assisting you in securely shredding and disposing of your sensitive documents and data. \nAccepting paper with:  \n\nStaples\nPaper clips\nRubber bands\nSmall binder clips\nFile folders\n\nNot accepting paper with:  \n\nLarge binder clips\nBinders\nCoil Binding\nHanging file folders\nPlastic Bags\nMagnets\nHard cover books\n\nAdditionally\, our partner United Electronic Recycling will be there for electronic recycling. All collected electronic waste is processed to R2V3 standards. \nDrop-off Event Disposal Fees: \n\nPrinters\, faxes and copiers – $5/item\nCRT monitors – $10/item\nTelevisions – $25/item\n\nFree to Recycle:  \n\nAll types of cables\nDesktops\nServers\nKeyboards\nSpeakers\nUPS- Power Supplies\nTelephones\nRouters\nSwitches\nCell Phones\nRadios\nTablets\nGame Consoles\nCameras\nSatellite Dishes\nSecurity Systems\nCable Boxes\nChristmas Lights\nProjectors\nMicrowaves\nMixers\nToasters\n\nAll other electronic items are free of charge. For a detailed list on the items\, we accept.
URL:https://www.mobileshredit.com/community-event/paper-shredding-near-plano-tx-11-16-24/
LOCATION:Christ United Methodist\, 3101 Coit Rd\, Plano\, TX\, 75075\, United States
CATEGORIES:Paper Shredding Events
END:VEVENT
BEGIN:VEVENT
DTSTART;TZID=America/Chicago:20241116T100000
DTEND;TZID=America/Chicago:20241116T140000
DTSTAMP:20260420T181057
CREATED:20240820T195315Z
LAST-MODIFIED:20241029T181018Z
UID:2196-1731751200-1731765600@www.mobileshredit.com
SUMMARY:Free Paper Shredding Event in Irving\, TX
DESCRIPTION:Due to inclement weather\, this event has been rescheduled from November 2 to November 16. \nThis Free Paper Shredding Event is in partnership with the City of Irving. This event is for Irving residents only\, and a valid driver’s license or water is required. Participants drive through the line to get rid of sensitive documents. The event will take place in Las Colinas Service Center\, located at 5964 Riverside Drive Irving\, TX 75039. \nPlease follow these rules when you bring items to Community Recycling sites (Limit of two boxes per resident): \n\nStay in your vehicle.\n1 car at a time will be unloaded\, so please wait in line patiently.\n\nAccepting paper with:  \n\nStaples\nPaper clips\nRubber bands\nSmall binder clips\nFile folders\n\nNot accepting paper with:  \n\nLarge binder clips\nBinders\nCoil Binding\nHanging file folders\nPlastic Bags\nMagnets\nHard cover books\n\nPre-shredded paper is not accepted at this event. \nAdditionally\, our partner United Electronic Recycling will be there for electronic recycling. All collected electronic waste is processed to R2V3 standards. \nDrop-off Event Disposal Fees: \n\nPrinters\, faxes and copiers – $5/item\nCRT monitors – $10/item\nTelevisions – $25/item\n\nFree to Recycle:  \n\nAll types of cables/wires\nDesktops\nLaptops\nServers\nKeyboards\nSpeakers\nUPS- Power Supplies\nTelephones\nRouters\nSwitches\nCell Phones\nRadios\nTablets\nGame Consoles\nCameras\nSatellite Dishes\nSecurity Systems\nCable Boxes\nChristmas Lights\nProjectors\nMicrowaves\nMixers\nToasters\nAir Fryers\nAir Purifiers/Diffusers\nRice cookers\nSmoke Detector\nVHS Tapes\nPrinters/ Copiers/ Fax machines\n\nFor further information\, please visit
URL:https://www.mobileshredit.com/community-event/free-paper-shredding-irving-tx-11-16-24/
LOCATION:Las Colinas Service Center\, 5964 Riverside Drive\, Irving\, TX\, 75039\, United States
CATEGORIES:Paper Shredding Events
END:VEVENT
END:VCALENDAR